BEGIN:VCALENDAR
VERSION:2.0
PRODID:-//Coventry and Warwickshire Astronomical Society - ECPv6.15.20//NONSGML v1.0//EN
CALSCALE:GREGORIAN
METHOD:PUBLISH
X-ORIGINAL-URL:https://covastro.org.uk
X-WR-CALDESC:Events for Coventry and Warwickshire Astronomical Society
REFRESH-INTERVAL;VALUE=DURATION:PT1H
X-Robots-Tag:noindex
X-PUBLISHED-TTL:PT1H
BEGIN:VTIMEZONE
TZID:Europe/London
BEGIN:DAYLIGHT
TZOFFSETFROM:+0000
TZOFFSETTO:+0100
TZNAME:BST
DTSTART:20250330T010000
END:DAYLIGHT
BEGIN:STANDARD
TZOFFSETFROM:+0100
TZOFFSETTO:+0000
TZNAME:GMT
DTSTART:20251026T010000
END:STANDARD
BEGIN:DAYLIGHT
TZOFFSETFROM:+0000
TZOFFSETTO:+0100
TZNAME:BST
DTSTART:20260329T010000
END:DAYLIGHT
BEGIN:STANDARD
TZOFFSETFROM:+0100
TZOFFSETTO:+0000
TZNAME:GMT
DTSTART:20261025T010000
END:STANDARD
BEGIN:DAYLIGHT
TZOFFSETFROM:+0000
TZOFFSETTO:+0100
TZNAME:BST
DTSTART:20270328T010000
END:DAYLIGHT
BEGIN:STANDARD
TZOFFSETFROM:+0100
TZOFFSETTO:+0000
TZNAME:GMT
DTSTART:20271031T010000
END:STANDARD
END:VTIMEZONE
BEGIN:VTIMEZONE
TZID:UTC
BEGIN:STANDARD
TZOFFSETFROM:+0000
TZOFFSETTO:+0000
TZNAME:UTC
DTSTART:20250101T000000
END:STANDARD
END:VTIMEZONE
BEGIN:VEVENT
DTSTART;VALUE=DATE:20260419
DTEND;VALUE=DATE:20260420
DTSTAMP:20260421T183012
CREATED:20260409T110356Z
LAST-MODIFIED:20260409T110356Z
UID:912-1776556800-1776643199@covastro.org.uk
SUMMARY:Moon Perihelion - 361\,630km
DESCRIPTION:
URL:https://covastro.org.uk/event/moon-perihelion-361630km/
CATEGORIES:Moon
END:VEVENT
BEGIN:VEVENT
DTSTART;VALUE=DATE:20260419
DTEND;VALUE=DATE:20260420
DTSTAMP:20260421T183012
CREATED:20260409T110120Z
LAST-MODIFIED:20260409T110120Z
UID:908-1776556800-1776643199@covastro.org.uk
SUMMARY:Moon near Pleiades and Venus
DESCRIPTION:
URL:https://covastro.org.uk/event/moon-near-pleiades-and-venus/
CATEGORIES:Moon
END:VEVENT
BEGIN:VEVENT
DTSTART;VALUE=DATE:20260417
DTEND;VALUE=DATE:20260418
DTSTAMP:20260421T183012
CREATED:20260409T105941Z
LAST-MODIFIED:20260409T110154Z
UID:906-1776384000-1776470399@covastro.org.uk
SUMMARY:Moon - New
DESCRIPTION:
URL:https://covastro.org.uk/event/moon-new/
CATEGORIES:Moon
END:VEVENT
BEGIN:VEVENT
DTSTART;VALUE=DATE:20260410
DTEND;VALUE=DATE:20260411
DTSTAMP:20260421T183012
CREATED:20260329T192143Z
LAST-MODIFIED:20260329T192236Z
UID:897-1775779200-1775865599@covastro.org.uk
SUMMARY:Moon - Last Quarter
DESCRIPTION:
URL:https://covastro.org.uk/event/moon-last-quarter/
CATEGORIES:Moon
END:VEVENT
BEGIN:VEVENT
DTSTART;VALUE=DATE:20260407
DTEND;VALUE=DATE:20260408
DTSTAMP:20260421T183012
CREATED:20260329T192048Z
LAST-MODIFIED:20260329T193717Z
UID:895-1775520000-1775606399@covastro.org.uk
SUMMARY:Moon apogee 404\,974 km
DESCRIPTION:
URL:https://covastro.org.uk/event/moon-apogee-404974-km/
CATEGORIES:Moon
END:VEVENT
BEGIN:VEVENT
DTSTART;VALUE=DATE:20260402
DTEND;VALUE=DATE:20260403
DTSTAMP:20260421T183012
CREATED:20260329T122645Z
LAST-MODIFIED:20260329T192424Z
UID:875-1775088000-1775174399@covastro.org.uk
SUMMARY:Full Moon
DESCRIPTION:
URL:https://covastro.org.uk/event/full-moon/
CATEGORIES:Moon
END:VEVENT
END:VCALENDAR